BEGIN:VCALENDAR
VERSION:2.0
PRODID:-//Cofton Holidays - ECPv6.15.17//NONSGML v1.0//EN
CALSCALE:GREGORIAN
METHOD:PUBLISH
X-WR-CALNAME:Cofton Holidays
X-ORIGINAL-URL:https://coftonholidays.co.uk
X-WR-CALDESC:Events for Cofton Holidays
REFRESH-INTERVAL;VALUE=DURATION:PT1H
X-Robots-Tag:noindex
X-PUBLISHED-TTL:PT1H
BEGIN:VTIMEZONE
TZID:Europe/London
BEGIN:DAYLIGHT
TZOFFSETFROM:+0000
TZOFFSETTO:+0100
TZNAME:BST
DTSTART:20250330T010000
END:DAYLIGHT
BEGIN:STANDARD
TZOFFSETFROM:+0100
TZOFFSETTO:+0000
TZNAME:GMT
DTSTART:20251026T010000
END:STANDARD
BEGIN:DAYLIGHT
TZOFFSETFROM:+0000
TZOFFSETTO:+0100
TZNAME:BST
DTSTART:20260329T010000
END:DAYLIGHT
BEGIN:STANDARD
TZOFFSETFROM:+0100
TZOFFSETTO:+0000
TZNAME:GMT
DTSTART:20261025T010000
END:STANDARD
BEGIN:DAYLIGHT
TZOFFSETFROM:+0000
TZOFFSETTO:+0100
TZNAME:BST
DTSTART:20270328T010000
END:DAYLIGHT
BEGIN:STANDARD
TZOFFSETFROM:+0100
TZOFFSETTO:+0000
TZNAME:GMT
DTSTART:20271031T010000
END:STANDARD
END:VTIMEZONE
BEGIN:VEVENT
DTSTART;TZID=Europe/London:20260129T150000
DTEND;TZID=Europe/London:20260129T170000
DTSTAMP:20260421T174222
CREATED:20260108T093146Z
LAST-MODIFIED:20260130T123311Z
UID:10017148-1769698800-1769706000@coftonholidays.co.uk
SUMMARY:Afternoon Family Bingo
DESCRIPTION:Eyes down and dabbers at the ready. \nTake part in our family friendly afternoon bingo game for the chance to win some prizes. \n(cash sales only)
URL:https://coftonholidays.co.uk/event/afternoon-family-bingo/2026-01-29/
LOCATION:Cofton Holiday Park\, Starcross\, Devon\, EX6 8RP\, United Kingdom
CATEGORIES:Activities,Entertainment
ATTACH;FMTTYPE=image/jpeg:https://coftonholidays.co.uk/wp-content/uploads/2023/09/balls-6077901-scaled.jpg
END:VEVENT
BEGIN:VEVENT
DTSTART;TZID=Europe/London:20260129T200000
DTEND;TZID=Europe/London:20260129T220000
DTSTAMP:20260421T174222
CREATED:20260108T093346Z
LAST-MODIFIED:20260108T105503Z
UID:10017165-1769716800-1769724000@coftonholidays.co.uk
SUMMARY:Entertainment at The Swan
DESCRIPTION:Join us in the Cofton Swan Pub for some laid back entertainment as we host gameshows\, quizzes and live music from one of our Entertainment team
URL:https://coftonholidays.co.uk/event/entertainment-at-the-swan-2/2026-01-29/
LOCATION:Cofton Holiday Park\, Starcross\, Devon\, EX6 8RP\, United Kingdom
CATEGORIES:Entertainment
END:VEVENT
BEGIN:VEVENT
DTSTART;TZID=Europe/London:20260130T200000
DTEND;TZID=Europe/London:20260130T230000
DTSTAMP:20260421T174222
CREATED:20260108T093441Z
LAST-MODIFIED:20260108T093441Z
UID:10017181-1769803200-1769814000@coftonholidays.co.uk
SUMMARY:Brian Sandy @ The Swan
DESCRIPTION:Join us every Friday night night as Brian Sandy performs live music in The Swan.
URL:https://coftonholidays.co.uk/event/brian-sandy-the-swan-3/2026-01-30/
LOCATION:Cofton Holiday Park\, Starcross\, Devon\, EX6 8RP\, United Kingdom
CATEGORIES:Entertainment
ATTACH;FMTTYPE=image/jpeg:https://coftonholidays.co.uk/wp-content/uploads/2021/04/Brian-Sandy.jpg
END:VEVENT
BEGIN:VEVENT
DTSTART;TZID=Europe/London:20260131T100000
DTEND;TZID=Europe/London:20260131T110000
DTSTAMP:20260421T174222
CREATED:20260107T104001Z
LAST-MODIFIED:20260313T110454Z
UID:10017108-1769853600-1769857200@coftonholidays.co.uk
SUMMARY:Teddy Bear Workshop
DESCRIPTION:Unleash your imagination and experience the joy of bringing your very own teddy to life at Cofton Holidays! Our exciting Teddy Bear Workshop invites you to craft your own cuddly companion\, choosing from our adorable designs to stuff and cherish forever. \nGuided by our friendly team\, this hands-on experience is filled with creativity and laughter – the perfect way to make your holiday at Cofton even more magical. \nBook here
URL:https://coftonholidays.co.uk/event/teddy-bear-workshop-3/2026-01-31/
LOCATION:Cofton Holiday Park\, Starcross\, Devon\, EX6 8RP\, United Kingdom
CATEGORIES:Activities
ATTACH;FMTTYPE=image/jpeg:https://coftonholidays.co.uk/wp-content/uploads/2024/12/Teddy-bear-workshop-web.jpg
END:VEVENT
BEGIN:VEVENT
DTSTART;TZID=Europe/London:20260131T100000
DTEND;TZID=Europe/London:20260131T120000
DTSTAMP:20260421T174222
CREATED:20251103T151914Z
LAST-MODIFIED:20260320T163625Z
UID:10017984-1769853600-1769860800@coftonholidays.co.uk
SUMMARY:Treetop High Ropes Sessions
DESCRIPTION:Get ready for adventure at our tree top high ropes course. Rising 8 metres from the ground\, our tree top adventure course will get your heart racing and your blood pumping as you navigate and traverse your way across 16 sections through the Cofton woods. Test your balance on tightropes and cross rickety bridges\, take on challenging obstacles and zip line back to the ground all whilst being safely harnessed in. \nWe have sessions running throughout the day. Book your session and get ready for the ultimate treetop adventure. \nTo take part you must be a: \n• Minimum of 8 years of age\n• Maximum weight of 120kg\n• Minimum of 1.2m height (Children  aged 8-10 years of age should be accompanied by an adult to aid them with the belay system) \nBook Treetop Adventure sessions
URL:https://coftonholidays.co.uk/event/treetop-high-ropes-sessions/2026-01-31/
LOCATION:Cofton Holiday Park\, Starcross\, Devon\, EX6 8RP\, United Kingdom
CATEGORIES:Activities
ATTACH;FMTTYPE=image/jpeg:https://coftonholidays.co.uk/wp-content/uploads/2022/08/high-ropes.jpg
END:VEVENT
BEGIN:VEVENT
DTSTART;TZID=Europe/London:20260131T100000
DTEND;TZID=Europe/London:20260131T160000
DTSTAMP:20260421T174222
CREATED:20260107T102151Z
LAST-MODIFIED:20260107T102151Z
UID:10017076-1769853600-1769875200@coftonholidays.co.uk
SUMMARY:Exeter Creed Comic Con
DESCRIPTION:Come join at Matford Centre where you can immerse yourself in the world of cosplay\, and all things pop at Exeter Creed Comic Con. \n\nGet ready to meet your favourite artists\, actors\, and creators. Dress up as your favourite character and participate in our cosplay contest. Explore the trader booths for unique collectibles and merchandise. Don’t miss out on the props\, panels and photoshoots! \nBook tickets 
URL:https://coftonholidays.co.uk/event/exeter-creed-comic-con/
LOCATION:Matford Centre\, Matford Centre\, Marsh Barton\, Exeter\, EX2 8FD
CATEGORIES:What’s On Locally
ATTACH;FMTTYPE=image/jpeg:https://coftonholidays.co.uk/wp-content/uploads/2026/01/Exeter-Comic-Con.jpg
END:VEVENT
BEGIN:VEVENT
DTSTART;TZID=Europe/London:20260131T140000
DTEND;TZID=Europe/London:20260131T160000
DTSTAMP:20260421T174222
CREATED:20260108T094103Z
LAST-MODIFIED:20260108T105412Z
UID:10017228-1769868000-1769875200@coftonholidays.co.uk
SUMMARY:Family Fun Time @ Amelia's
DESCRIPTION:Join us in Amelia’s for some fun family activities in Amelia’s including Balloon Modelling\, Face Painting\, Sand Art and more
URL:https://coftonholidays.co.uk/event/family-fun-time-amelias/2026-01-31/
LOCATION:Cofton Holiday Park\, Starcross\, Devon\, EX6 8RP\, United Kingdom
CATEGORIES:Activities
END:VEVENT
BEGIN:VEVENT
DTSTART;TZID=Europe/London:20260131T173000
DTEND;TZID=Europe/London:20260131T190000
DTSTAMP:20260421T174222
CREATED:20260121T121431Z
LAST-MODIFIED:20260121T121431Z
UID:10017214-1769880600-1769886000@coftonholidays.co.uk
SUMMARY:Kids Club @ The Swan
DESCRIPTION:It’s time for fun and games at our kids club! Join us in the Swan pub for challenges\, party dances and more
URL:https://coftonholidays.co.uk/event/kids-club-the-swan-2-2/2026-01-31/
LOCATION:Cofton Holiday Park\, Starcross\, Devon\, EX6 8RP\, United Kingdom
CATEGORIES:Activities,Entertainment
ATTACH;FMTTYPE=image/jpeg:https://coftonholidays.co.uk/wp-content/uploads/2023/04/Kids-Club.jpg
END:VEVENT
BEGIN:VEVENT
DTSTART;TZID=Europe/London:20260131T190000
DTEND;TZID=Europe/London:20260131T220000
DTSTAMP:20260421T174222
CREATED:20260105T151527Z
LAST-MODIFIED:20260105T151527Z
UID:10017060-1769886000-1769896800@coftonholidays.co.uk
SUMMARY:Concert Mozart Unbound
DESCRIPTION:Exeter Opera Group presents a concert in Topsham dedicated to 270th Anniversary of Mozart’s Birthday. Arias\, duets and trios from ‘Le nozze di Figaro’\, ‘Don Giovanni’\, ‘Cosi fan tutte’\, ‘La Clemenza di Tito’\, ‘Die Zauberflöte’\,’Idomeneo’\, ‘Zaide’\, as well as piano masterpieces… \nFind out more
URL:https://coftonholidays.co.uk/event/concert-mozart-unbound/
LOCATION:Topsham\, Darts Farm\, Topsham\, Devon\, EX3 0QH\, United Kingdom
CATEGORIES:What’s On Locally
ATTACH;FMTTYPE=image/jpeg:https://coftonholidays.co.uk/wp-content/uploads/2026/01/pexels-reneterp-1327438-scaled.jpg
END:VEVENT
BEGIN:VEVENT
DTSTART;TZID=Europe/London:20260131T200000
DTEND;TZID=Europe/London:20260131T220000
DTSTAMP:20260421T174222
CREATED:20260108T093346Z
LAST-MODIFIED:20260108T105503Z
UID:10017166-1769889600-1769896800@coftonholidays.co.uk
SUMMARY:Entertainment at The Swan
DESCRIPTION:Join us in the Cofton Swan Pub for some laid back entertainment as we host gameshows\, quizzes and live music from one of our Entertainment team
URL:https://coftonholidays.co.uk/event/entertainment-at-the-swan-2/2026-01-31/
LOCATION:Cofton Holiday Park\, Starcross\, Devon\, EX6 8RP\, United Kingdom
CATEGORIES:Entertainment
END:VEVENT
BEGIN:VEVENT
DTSTART;TZID=Europe/London:20260201T100000
DTEND;TZID=Europe/London:20260201T110000
DTSTAMP:20260421T174222
CREATED:20260107T104306Z
LAST-MODIFIED:20260313T111912Z
UID:10017121-1769940000-1769943600@coftonholidays.co.uk
SUMMARY:Pottery Painting
DESCRIPTION:Get creative in our fun pottery painting workshop and create a souvenir of your holiday to take home. \nBook Your Session
URL:https://coftonholidays.co.uk/event/pottery-painting-7/2026-02-01/
LOCATION:Cofton Holiday Park\, Starcross\, Devon\, EX6 8RP\, United Kingdom
CATEGORIES:Activities
ATTACH;FMTTYPE=image/jpeg:https://coftonholidays.co.uk/wp-content/uploads/2025/07/close-up-hands-painting-item-scaled.jpg
END:VEVENT
BEGIN:VEVENT
DTSTART;TZID=Europe/London:20260201T140000
DTEND;TZID=Europe/London:20260201T160000
DTSTAMP:20260421T174222
CREATED:20260108T094103Z
LAST-MODIFIED:20260108T105412Z
UID:10017229-1769954400-1769961600@coftonholidays.co.uk
SUMMARY:Family Fun Time @ Amelia's
DESCRIPTION:Join us in Amelia’s for some fun family activities in Amelia’s including Balloon Modelling\, Face Painting\, Sand Art and more
URL:https://coftonholidays.co.uk/event/family-fun-time-amelias/2026-02-01/
LOCATION:Cofton Holiday Park\, Starcross\, Devon\, EX6 8RP\, United Kingdom
CATEGORIES:Activities
END:VEVENT
BEGIN:VEVENT
DTSTART;TZID=Europe/London:20260201T200000
DTEND;TZID=Europe/London:20260201T210000
DTSTAMP:20260421T174222
CREATED:20260108T093541Z
LAST-MODIFIED:20260108T105551Z
UID:10017190-1769976000-1769979600@coftonholidays.co.uk
SUMMARY:Live Music in Amelia's
DESCRIPTION:A member of our Entertainment Team will be providing the soundtrack to your evening with a stripped down\, acoustic performance in Amelia’s.
URL:https://coftonholidays.co.uk/event/live-music-in-amelias-2/2026-02-01/
LOCATION:Cofton Holiday Park\, Starcross\, Devon\, EX6 8RP\, United Kingdom
CATEGORIES:Entertainment
END:VEVENT
BEGIN:VEVENT
DTSTART;TZID=Europe/London:20260202T100000
DTEND;TZID=Europe/London:20260202T120000
DTSTAMP:20260421T174222
CREATED:20260109T145106Z
LAST-MODIFIED:20260122T091545Z
UID:10017976-1770026400-1770033600@coftonholidays.co.uk
SUMMARY:Toddler Water Soft Play
DESCRIPTION:Our Water Soft Play sessions contains a variety of different floats and toys\, which are designed for parents and tots to enjoy together and give your child the confidence around water from an early age. \nPrices:\nAdults – £7.50\nUnder 4s – Free
URL:https://coftonholidays.co.uk/event/toddler-water-soft-play-2/2026-02-02/
LOCATION:Cofton Holiday Park\, Starcross\, Devon\, EX6 8RP\, United Kingdom
CATEGORIES:Activities
ATTACH;FMTTYPE=image/jpeg:https://coftonholidays.co.uk/wp-content/uploads/2016/11/Swimming-pools-near-Exeter-e1564147744846.jpg
END:VEVENT
BEGIN:VEVENT
DTSTART;TZID=Europe/London:20260202T200000
DTEND;TZID=Europe/London:20260202T220000
DTSTAMP:20260421T174222
CREATED:20260108T093749Z
LAST-MODIFIED:20260108T093749Z
UID:10017201-1770062400-1770069600@coftonholidays.co.uk
SUMMARY:Quiz & Live Music
DESCRIPTION:Join us in Amelia’s for our quiz and and stripped back acoustic music from our Entertainment Team.
URL:https://coftonholidays.co.uk/event/quiz-live-music/2026-02-02/
LOCATION:Cofton Holiday Park\, Starcross\, Devon\, EX6 8RP\, United Kingdom
CATEGORIES:Activities,Entertainment
ATTACH;FMTTYPE=image/jpeg:https://coftonholidays.co.uk/wp-content/uploads/2023/09/balls-6077901-scaled.jpg
END:VEVENT
BEGIN:VEVENT
DTSTART;TZID=Europe/London:20260203T100000
DTEND;TZID=Europe/London:20260203T110000
DTSTAMP:20260421T174222
CREATED:20260107T103618Z
LAST-MODIFIED:20260107T103618Z
UID:10017084-1770112800-1770116400@coftonholidays.co.uk
SUMMARY:Tots Time - Musi-tots
DESCRIPTION:Our fun toddler sessions are all about getting creative. Let you little get musical with a host instruments to play and songs to sing.
URL:https://coftonholidays.co.uk/event/tots-time-musi-tots/2026-02-03/
LOCATION:Cofton Holiday Park\, Starcross\, Devon\, EX6 8RP\, United Kingdom
CATEGORIES:Activities
ATTACH;FMTTYPE=image/jpeg:https://coftonholidays.co.uk/wp-content/uploads/2024/06/AdobeStock_416689150-scaled.jpeg
END:VEVENT
BEGIN:VEVENT
DTSTART;TZID=Europe/London:20260203T160000
DTEND;TZID=Europe/London:20260203T173000
DTSTAMP:20260421T174222
CREATED:20260107T111104Z
LAST-MODIFIED:20260107T111104Z
UID:10017139-1770134400-1770139800@coftonholidays.co.uk
SUMMARY:Afternoon Prize Quiz
DESCRIPTION:Join us in Amelia’s for our afternoon quiz and the chance to win some prizes.
URL:https://coftonholidays.co.uk/event/afternoon-prize-quiz/2026-02-03/
LOCATION:Cofton Holiday Park\, Starcross\, Devon\, EX6 8RP\, United Kingdom
CATEGORIES:Activities,Entertainment
ATTACH;FMTTYPE=image/jpeg:https://coftonholidays.co.uk/wp-content/uploads/2024/09/afternoon-quiz.jpg
END:VEVENT
BEGIN:VEVENT
DTSTART;TZID=Europe/London:20260204T100000
DTEND;TZID=Europe/London:20260204T120000
DTSTAMP:20260421T174222
CREATED:20260109T145106Z
LAST-MODIFIED:20260122T091545Z
UID:10017977-1770199200-1770206400@coftonholidays.co.uk
SUMMARY:Toddler Water Soft Play
DESCRIPTION:Our Water Soft Play sessions contains a variety of different floats and toys\, which are designed for parents and tots to enjoy together and give your child the confidence around water from an early age. \nPrices:\nAdults – £7.50\nUnder 4s – Free
URL:https://coftonholidays.co.uk/event/toddler-water-soft-play-2/2026-02-04/
LOCATION:Cofton Holiday Park\, Starcross\, Devon\, EX6 8RP\, United Kingdom
CATEGORIES:Activities
ATTACH;FMTTYPE=image/jpeg:https://coftonholidays.co.uk/wp-content/uploads/2016/11/Swimming-pools-near-Exeter-e1564147744846.jpg
END:VEVENT
BEGIN:VEVENT
DTSTART;TZID=Europe/London:20260205T100000
DTEND;TZID=Europe/London:20260205T110000
DTSTAMP:20260421T174222
CREATED:20260107T103805Z
LAST-MODIFIED:20260107T103805Z
UID:10017092-1770285600-1770289200@coftonholidays.co.uk
SUMMARY:Tots Time - Hand-tastic Painting
DESCRIPTION:Our fun toddler sessions are all about getting creative. Let your little one get arty using their hands as paint brushes to create their next masterpiece.
URL:https://coftonholidays.co.uk/event/tots-time-hand-tastic-painting/2026-02-05/
LOCATION:Cofton Holiday Park\, Starcross\, Devon\, EX6 8RP\, United Kingdom
CATEGORIES:Activities
ATTACH;FMTTYPE=image/jpeg:https://coftonholidays.co.uk/wp-content/uploads/2024/06/AdobeStock_314728247-scaled.jpeg
END:VEVENT
BEGIN:VEVENT
DTSTART;TZID=Europe/London:20260205T100000
DTEND;TZID=Europe/London:20260205T120000
DTSTAMP:20260421T174222
CREATED:20260109T145106Z
LAST-MODIFIED:20260122T091545Z
UID:10017978-1770285600-1770292800@coftonholidays.co.uk
SUMMARY:Toddler Water Soft Play
DESCRIPTION:Our Water Soft Play sessions contains a variety of different floats and toys\, which are designed for parents and tots to enjoy together and give your child the confidence around water from an early age. \nPrices:\nAdults – £7.50\nUnder 4s – Free
URL:https://coftonholidays.co.uk/event/toddler-water-soft-play-2/2026-02-05/
LOCATION:Cofton Holiday Park\, Starcross\, Devon\, EX6 8RP\, United Kingdom
CATEGORIES:Activities
ATTACH;FMTTYPE=image/jpeg:https://coftonholidays.co.uk/wp-content/uploads/2016/11/Swimming-pools-near-Exeter-e1564147744846.jpg
END:VEVENT
BEGIN:VEVENT
DTSTART;TZID=Europe/London:20260205T150000
DTEND;TZID=Europe/London:20260205T170000
DTSTAMP:20260421T174222
CREATED:20260108T093146Z
LAST-MODIFIED:20260130T123311Z
UID:10017149-1770303600-1770310800@coftonholidays.co.uk
SUMMARY:Afternoon Family Bingo
DESCRIPTION:Eyes down and dabbers at the ready. \nTake part in our family friendly afternoon bingo game for the chance to win some prizes. \n(cash sales only)
URL:https://coftonholidays.co.uk/event/afternoon-family-bingo/2026-02-05/
LOCATION:Cofton Holiday Park\, Starcross\, Devon\, EX6 8RP\, United Kingdom
CATEGORIES:Activities,Entertainment
ATTACH;FMTTYPE=image/jpeg:https://coftonholidays.co.uk/wp-content/uploads/2023/09/balls-6077901-scaled.jpg
END:VEVENT
BEGIN:VEVENT
DTSTART;TZID=Europe/London:20260205T200000
DTEND;TZID=Europe/London:20260205T220000
DTSTAMP:20260421T174222
CREATED:20260108T093346Z
LAST-MODIFIED:20260108T105503Z
UID:10017167-1770321600-1770328800@coftonholidays.co.uk
SUMMARY:Entertainment at The Swan
DESCRIPTION:Join us in the Cofton Swan Pub for some laid back entertainment as we host gameshows\, quizzes and live music from one of our Entertainment team
URL:https://coftonholidays.co.uk/event/entertainment-at-the-swan-2/2026-02-05/
LOCATION:Cofton Holiday Park\, Starcross\, Devon\, EX6 8RP\, United Kingdom
CATEGORIES:Entertainment
END:VEVENT
BEGIN:VEVENT
DTSTART;TZID=Europe/London:20260206T200000
DTEND;TZID=Europe/London:20260206T230000
DTSTAMP:20260421T174222
CREATED:20260108T093441Z
LAST-MODIFIED:20260108T093441Z
UID:10017182-1770408000-1770418800@coftonholidays.co.uk
SUMMARY:Brian Sandy @ The Swan
DESCRIPTION:Join us every Friday night night as Brian Sandy performs live music in The Swan.
URL:https://coftonholidays.co.uk/event/brian-sandy-the-swan-3/2026-02-06/
LOCATION:Cofton Holiday Park\, Starcross\, Devon\, EX6 8RP\, United Kingdom
CATEGORIES:Entertainment
ATTACH;FMTTYPE=image/jpeg:https://coftonholidays.co.uk/wp-content/uploads/2021/04/Brian-Sandy.jpg
END:VEVENT
BEGIN:VEVENT
DTSTART;TZID=Europe/London:20260207T100000
DTEND;TZID=Europe/London:20260207T110000
DTSTAMP:20260421T174222
CREATED:20260107T104001Z
LAST-MODIFIED:20260313T110454Z
UID:10017109-1770458400-1770462000@coftonholidays.co.uk
SUMMARY:Teddy Bear Workshop
DESCRIPTION:Unleash your imagination and experience the joy of bringing your very own teddy to life at Cofton Holidays! Our exciting Teddy Bear Workshop invites you to craft your own cuddly companion\, choosing from our adorable designs to stuff and cherish forever. \nGuided by our friendly team\, this hands-on experience is filled with creativity and laughter – the perfect way to make your holiday at Cofton even more magical. \nBook here
URL:https://coftonholidays.co.uk/event/teddy-bear-workshop-3/2026-02-07/
LOCATION:Cofton Holiday Park\, Starcross\, Devon\, EX6 8RP\, United Kingdom
CATEGORIES:Activities
ATTACH;FMTTYPE=image/jpeg:https://coftonholidays.co.uk/wp-content/uploads/2024/12/Teddy-bear-workshop-web.jpg
END:VEVENT
BEGIN:VEVENT
DTSTART;TZID=Europe/London:20260207T100000
DTEND;TZID=Europe/London:20260207T120000
DTSTAMP:20260421T174222
CREATED:20251103T151914Z
LAST-MODIFIED:20260320T163625Z
UID:10017985-1770458400-1770465600@coftonholidays.co.uk
SUMMARY:Treetop High Ropes Sessions
DESCRIPTION:Get ready for adventure at our tree top high ropes course. Rising 8 metres from the ground\, our tree top adventure course will get your heart racing and your blood pumping as you navigate and traverse your way across 16 sections through the Cofton woods. Test your balance on tightropes and cross rickety bridges\, take on challenging obstacles and zip line back to the ground all whilst being safely harnessed in. \nWe have sessions running throughout the day. Book your session and get ready for the ultimate treetop adventure. \nTo take part you must be a: \n• Minimum of 8 years of age\n• Maximum weight of 120kg\n• Minimum of 1.2m height (Children  aged 8-10 years of age should be accompanied by an adult to aid them with the belay system) \nBook Treetop Adventure sessions
URL:https://coftonholidays.co.uk/event/treetop-high-ropes-sessions/2026-02-07/
LOCATION:Cofton Holiday Park\, Starcross\, Devon\, EX6 8RP\, United Kingdom
CATEGORIES:Activities
ATTACH;FMTTYPE=image/jpeg:https://coftonholidays.co.uk/wp-content/uploads/2022/08/high-ropes.jpg
END:VEVENT
BEGIN:VEVENT
DTSTART;TZID=Europe/London:20260207T140000
DTEND;TZID=Europe/London:20260207T160000
DTSTAMP:20260421T174222
CREATED:20260108T094103Z
LAST-MODIFIED:20260108T105412Z
UID:10017230-1770472800-1770480000@coftonholidays.co.uk
SUMMARY:Family Fun Time @ Amelia's
DESCRIPTION:Join us in Amelia’s for some fun family activities in Amelia’s including Balloon Modelling\, Face Painting\, Sand Art and more
URL:https://coftonholidays.co.uk/event/family-fun-time-amelias/2026-02-07/
LOCATION:Cofton Holiday Park\, Starcross\, Devon\, EX6 8RP\, United Kingdom
CATEGORIES:Activities
END:VEVENT
BEGIN:VEVENT
DTSTART;TZID=Europe/London:20260207T173000
DTEND;TZID=Europe/London:20260207T190000
DTSTAMP:20260421T174222
CREATED:20260121T121431Z
LAST-MODIFIED:20260121T121431Z
UID:10017217-1770485400-1770490800@coftonholidays.co.uk
SUMMARY:Kids Club @ The Swan
DESCRIPTION:It’s time for fun and games at our kids club! Join us in the Swan pub for challenges\, party dances and more
URL:https://coftonholidays.co.uk/event/kids-club-the-swan-2-2/2026-02-07/
LOCATION:Cofton Holiday Park\, Starcross\, Devon\, EX6 8RP\, United Kingdom
CATEGORIES:Activities,Entertainment
ATTACH;FMTTYPE=image/jpeg:https://coftonholidays.co.uk/wp-content/uploads/2023/04/Kids-Club.jpg
END:VEVENT
BEGIN:VEVENT
DTSTART;TZID=Europe/London:20260207T200000
DTEND;TZID=Europe/London:20260207T220000
DTSTAMP:20260421T174222
CREATED:20260108T093346Z
LAST-MODIFIED:20260108T105503Z
UID:10017168-1770494400-1770501600@coftonholidays.co.uk
SUMMARY:Entertainment at The Swan
DESCRIPTION:Join us in the Cofton Swan Pub for some laid back entertainment as we host gameshows\, quizzes and live music from one of our Entertainment team
URL:https://coftonholidays.co.uk/event/entertainment-at-the-swan-2/2026-02-07/
LOCATION:Cofton Holiday Park\, Starcross\, Devon\, EX6 8RP\, United Kingdom
CATEGORIES:Entertainment
END:VEVENT
BEGIN:VEVENT
DTSTART;TZID=Europe/London:20260208T100000
DTEND;TZID=Europe/London:20260208T110000
DTSTAMP:20260421T174222
CREATED:20260107T104306Z
LAST-MODIFIED:20260313T111912Z
UID:10017122-1770544800-1770548400@coftonholidays.co.uk
SUMMARY:Pottery Painting
DESCRIPTION:Get creative in our fun pottery painting workshop and create a souvenir of your holiday to take home. \nBook Your Session
URL:https://coftonholidays.co.uk/event/pottery-painting-7/2026-02-08/
LOCATION:Cofton Holiday Park\, Starcross\, Devon\, EX6 8RP\, United Kingdom
CATEGORIES:Activities
ATTACH;FMTTYPE=image/jpeg:https://coftonholidays.co.uk/wp-content/uploads/2025/07/close-up-hands-painting-item-scaled.jpg
END:VEVENT
BEGIN:VEVENT
DTSTART;TZID=Europe/London:20260208T140000
DTEND;TZID=Europe/London:20260208T160000
DTSTAMP:20260421T174222
CREATED:20260108T094103Z
LAST-MODIFIED:20260108T105412Z
UID:10017231-1770559200-1770566400@coftonholidays.co.uk
SUMMARY:Family Fun Time @ Amelia's
DESCRIPTION:Join us in Amelia’s for some fun family activities in Amelia’s including Balloon Modelling\, Face Painting\, Sand Art and more
URL:https://coftonholidays.co.uk/event/family-fun-time-amelias/2026-02-08/
LOCATION:Cofton Holiday Park\, Starcross\, Devon\, EX6 8RP\, United Kingdom
CATEGORIES:Activities
END:VEVENT
END:VCALENDAR