BEGIN:VCALENDAR
VERSION:2.0
PRODID:-//Cofton Holidays - ECPv6.15.17//NONSGML v1.0//EN
CALSCALE:GREGORIAN
METHOD:PUBLISH
X-ORIGINAL-URL:https://coftonholidays.co.uk
X-WR-CALDESC:Events for Cofton Holidays
REFRESH-INTERVAL;VALUE=DURATION:PT1H
X-Robots-Tag:noindex
X-PUBLISHED-TTL:PT1H
BEGIN:VTIMEZONE
TZID:Europe/London
BEGIN:DAYLIGHT
TZOFFSETFROM:+0000
TZOFFSETTO:+0100
TZNAME:BST
DTSTART:20250330T010000
END:DAYLIGHT
BEGIN:STANDARD
TZOFFSETFROM:+0100
TZOFFSETTO:+0000
TZNAME:GMT
DTSTART:20251026T010000
END:STANDARD
BEGIN:DAYLIGHT
TZOFFSETFROM:+0000
TZOFFSETTO:+0100
TZNAME:BST
DTSTART:20260329T010000
END:DAYLIGHT
BEGIN:STANDARD
TZOFFSETFROM:+0100
TZOFFSETTO:+0000
TZNAME:GMT
DTSTART:20261025T010000
END:STANDARD
BEGIN:DAYLIGHT
TZOFFSETFROM:+0000
TZOFFSETTO:+0100
TZNAME:BST
DTSTART:20270328T010000
END:DAYLIGHT
BEGIN:STANDARD
TZOFFSETFROM:+0100
TZOFFSETTO:+0000
TZNAME:GMT
DTSTART:20271031T010000
END:STANDARD
END:VTIMEZONE
BEGIN:VEVENT
DTSTART;TZID=Europe/London:20260425T100000
DTEND;TZID=Europe/London:20260425T110000
DTSTAMP:20260419T172012
CREATED:20260413T125150Z
LAST-MODIFIED:20260413T125150Z
UID:10018807-1777111200-1777114800@coftonholidays.co.uk
SUMMARY:Teddy Bear Workshop
DESCRIPTION:Unleash your imagination and experience the joy of bringing your very own teddy to life at Cofton Holidays! Our exciting Teddy Bear Workshop invites you to craft your own cuddly companion\, choosing from our adorable designs to stuff and cherish forever. \nGuided by our friendly team\, this hands-on experience is filled with creativity and laughter – the perfect way to make your holiday at Cofton even more magical. \nBook here
URL:https://coftonholidays.co.uk/event/teddy-bear-workshop-4/2026-04-25/
LOCATION:Cofton Holiday Park\, Starcross\, Devon\, EX6 8RP\, United Kingdom
CATEGORIES:Activities
ATTACH;FMTTYPE=image/jpeg:https://coftonholidays.co.uk/wp-content/uploads/2024/12/Teddy-bear-workshop-web.jpg
END:VEVENT
BEGIN:VEVENT
DTSTART;TZID=Europe/London:20260425T170000
DTEND;TZID=Europe/London:20260425T180000
DTSTAMP:20260419T172012
CREATED:20260417T092247Z
LAST-MODIFIED:20260417T093722Z
UID:10018901-1777136400-1777140000@coftonholidays.co.uk
SUMMARY:Little Legends
DESCRIPTION:Our evening entertainment kicks off with interactive fun and activities from face painting and circus skills to balloon modelling. Come on down\, make new friends and meet the Cofton Crew.
URL:https://coftonholidays.co.uk/event/little-legends/2026-04-25/
LOCATION:Cofton Holiday Park\, Starcross\, Devon\, EX6 8RP\, United Kingdom
CATEGORIES:Entertainment
ATTACH;FMTTYPE=image/jpeg:https://coftonholidays.co.uk/wp-content/uploads/2016/12/Entertainment-Toddlers-Holidays-Children-Devon-scaled.jpeg
END:VEVENT
BEGIN:VEVENT
DTSTART;TZID=Europe/London:20260425T180000
DTEND;TZID=Europe/London:20260425T183000
DTSTAMP:20260419T172012
CREATED:20260417T092659Z
LAST-MODIFIED:20260417T092826Z
UID:10018964-1777140000-1777141800@coftonholidays.co.uk
SUMMARY:Digby & Friends Story Time
DESCRIPTION:Don’t miss story time with Digby and the gang as they take you on an journey through one of they’re exciting adventures. Ever lasting laughs with Jaffa the Rabbit and Professor Cofton will sure to keep you wanting more!! But watch out for SNEAKY FOX\, he’s always up to no good.
URL:https://coftonholidays.co.uk/event/digby-friends-story-time-3/2026-04-25/
LOCATION:Cofton Holiday Park\, Starcross\, Devon\, EX6 8RP\, United Kingdom
CATEGORIES:Entertainment
ATTACH;FMTTYPE=image/jpeg:https://coftonholidays.co.uk/wp-content/uploads/2016/12/Digby-scaled.jpg
END:VEVENT
BEGIN:VEVENT
DTSTART;TZID=Europe/London:20260425T183000
DTEND;TZID=Europe/London:20260425T193000
DTSTAMP:20260419T172012
CREATED:20260417T094153Z
LAST-MODIFIED:20260417T111259Z
UID:10019097-1777141800-1777145400@coftonholidays.co.uk
SUMMARY:Cofton Kids Party Time
DESCRIPTION:Get ready for the ultimate party full of fun\, games\, party dances and more! Come and join in with all the games and challenges\, and immerse yourself in our party time!!!
URL:https://coftonholidays.co.uk/event/cofton-kids-party-time/2026-04-25/
LOCATION:Cofton Holiday Park\, Starcross\, Devon\, EX6 8RP\, United Kingdom
CATEGORIES:Entertainment
ATTACH;FMTTYPE=image/jpeg:https://coftonholidays.co.uk/wp-content/uploads/2016/12/Entertainment-Toddlers-Holidays-Children-Devon-scaled.jpeg
END:VEVENT
BEGIN:VEVENT
DTSTART;TZID=Europe/London:20260425T193000
DTEND;TZID=Europe/London:20260425T203000
DTSTAMP:20260419T172012
CREATED:20260417T093910Z
LAST-MODIFIED:20260417T111354Z
UID:10019117-1777145400-1777149000@coftonholidays.co.uk
SUMMARY:Bingo
DESCRIPTION:Eyes down and dabbers at the ready. \nEvery night during our evening entertainment there’s the chance to win some cash prizes in our daily game of bingo. \n(Tickets can be purchased from one of the entertainment team. Over 18s and cash sales only)
URL:https://coftonholidays.co.uk/event/bingo-9/2026-04-25/
LOCATION:Cofton Holiday Park\, Starcross\, Devon\, EX6 8RP\, United Kingdom
CATEGORIES:Entertainment
ATTACH;FMTTYPE=image/jpeg:https://coftonholidays.co.uk/wp-content/uploads/2023/09/balls-6077901-scaled.jpg
END:VEVENT
BEGIN:VEVENT
DTSTART;TZID=Europe/London:20260425T203000
DTEND;TZID=Europe/London:20260425T210000
DTSTAMP:20260419T172012
CREATED:20260417T094353Z
LAST-MODIFIED:20260417T094353Z
UID:10019077-1777149000-1777150800@coftonholidays.co.uk
SUMMARY:Game Show / Quiz
DESCRIPTION:Get your thinking caps on as we test your grey matter with some fun themed quizzes or get involved in our popular game shows.
URL:https://coftonholidays.co.uk/event/game-show-quiz-2/2026-04-25/
LOCATION:Cofton Holiday Park\, Starcross\, Devon\, EX6 8RP\, United Kingdom
CATEGORIES:Entertainment
ATTACH;FMTTYPE=image/jpeg:https://coftonholidays.co.uk/wp-content/uploads/2017/01/Entertainment.jpg
END:VEVENT
BEGIN:VEVENT
DTSTART;TZID=Europe/London:20260425T210000
DTEND;TZID=Europe/London:20260425T220000
DTSTAMP:20260419T172012
CREATED:20260417T160040Z
LAST-MODIFIED:20260417T160040Z
UID:10019161-1777150800-1777154400@coftonholidays.co.uk
SUMMARY:Vocalist - Gaz Hocking
DESCRIPTION:Performing a vocal show celebrating music from the 60’s to the present day\, we welcome Gaz Hocking to the Cofton stage.
URL:https://coftonholidays.co.uk/event/vocalist-gaz-hocking/
LOCATION:Cofton Holiday Park\, Starcross\, Devon\, EX6 8RP\, United Kingdom
CATEGORIES:Entertainment
ATTACH;FMTTYPE=image/jpeg:https://coftonholidays.co.uk/wp-content/uploads/2026/04/gaz-Hocking.jpg
END:VEVENT
BEGIN:VEVENT
DTSTART;TZID=Europe/London:20260426T100000
DTEND;TZID=Europe/London:20260426T110000
DTSTAMP:20260419T172012
CREATED:20260413T125335Z
LAST-MODIFIED:20260413T125335Z
UID:10018832-1777197600-1777201200@coftonholidays.co.uk
SUMMARY:Pottery Painting
DESCRIPTION:Get creative in our fun pottery painting workshop and create a souvenir of your holiday to take home. \nBook Your Session
URL:https://coftonholidays.co.uk/event/pottery-painting/2026-04-26/
LOCATION:Cofton Holiday Park\, Starcross\, Devon\, EX6 8RP\, United Kingdom
CATEGORIES:Activities
ATTACH;FMTTYPE=image/jpeg:https://coftonholidays.co.uk/wp-content/uploads/2025/07/close-up-hands-painting-item-scaled.jpg
END:VEVENT
BEGIN:VEVENT
DTSTART;TZID=Europe/London:20260426T170000
DTEND;TZID=Europe/London:20260426T180000
DTSTAMP:20260419T172012
CREATED:20260417T092247Z
LAST-MODIFIED:20260417T093722Z
UID:10018902-1777222800-1777226400@coftonholidays.co.uk
SUMMARY:Little Legends
DESCRIPTION:Our evening entertainment kicks off with interactive fun and activities from face painting and circus skills to balloon modelling. Come on down\, make new friends and meet the Cofton Crew.
URL:https://coftonholidays.co.uk/event/little-legends/2026-04-26/
LOCATION:Cofton Holiday Park\, Starcross\, Devon\, EX6 8RP\, United Kingdom
CATEGORIES:Entertainment
ATTACH;FMTTYPE=image/jpeg:https://coftonholidays.co.uk/wp-content/uploads/2016/12/Entertainment-Toddlers-Holidays-Children-Devon-scaled.jpeg
END:VEVENT
BEGIN:VEVENT
DTSTART;TZID=Europe/London:20260426T180000
DTEND;TZID=Europe/London:20260426T183000
DTSTAMP:20260419T172012
CREATED:20260417T092659Z
LAST-MODIFIED:20260417T092826Z
UID:10018965-1777226400-1777228200@coftonholidays.co.uk
SUMMARY:Digby & Friends Story Time
DESCRIPTION:Don’t miss story time with Digby and the gang as they take you on an journey through one of they’re exciting adventures. Ever lasting laughs with Jaffa the Rabbit and Professor Cofton will sure to keep you wanting more!! But watch out for SNEAKY FOX\, he’s always up to no good.
URL:https://coftonholidays.co.uk/event/digby-friends-story-time-3/2026-04-26/
LOCATION:Cofton Holiday Park\, Starcross\, Devon\, EX6 8RP\, United Kingdom
CATEGORIES:Entertainment
ATTACH;FMTTYPE=image/jpeg:https://coftonholidays.co.uk/wp-content/uploads/2016/12/Digby-scaled.jpg
END:VEVENT
BEGIN:VEVENT
DTSTART;TZID=Europe/London:20260426T183000
DTEND;TZID=Europe/London:20260426T193000
DTSTAMP:20260419T172012
CREATED:20260417T094153Z
LAST-MODIFIED:20260417T111259Z
UID:10019098-1777228200-1777231800@coftonholidays.co.uk
SUMMARY:Cofton Kids Party Time
DESCRIPTION:Get ready for the ultimate party full of fun\, games\, party dances and more! Come and join in with all the games and challenges\, and immerse yourself in our party time!!!
URL:https://coftonholidays.co.uk/event/cofton-kids-party-time/2026-04-26/
LOCATION:Cofton Holiday Park\, Starcross\, Devon\, EX6 8RP\, United Kingdom
CATEGORIES:Entertainment
ATTACH;FMTTYPE=image/jpeg:https://coftonholidays.co.uk/wp-content/uploads/2016/12/Entertainment-Toddlers-Holidays-Children-Devon-scaled.jpeg
END:VEVENT
BEGIN:VEVENT
DTSTART;TZID=Europe/London:20260426T193000
DTEND;TZID=Europe/London:20260426T203000
DTSTAMP:20260419T172012
CREATED:20260417T093910Z
LAST-MODIFIED:20260417T111354Z
UID:10019118-1777231800-1777235400@coftonholidays.co.uk
SUMMARY:Bingo
DESCRIPTION:Eyes down and dabbers at the ready. \nEvery night during our evening entertainment there’s the chance to win some cash prizes in our daily game of bingo. \n(Tickets can be purchased from one of the entertainment team. Over 18s and cash sales only)
URL:https://coftonholidays.co.uk/event/bingo-9/2026-04-26/
LOCATION:Cofton Holiday Park\, Starcross\, Devon\, EX6 8RP\, United Kingdom
CATEGORIES:Entertainment
ATTACH;FMTTYPE=image/jpeg:https://coftonholidays.co.uk/wp-content/uploads/2023/09/balls-6077901-scaled.jpg
END:VEVENT
BEGIN:VEVENT
DTSTART;TZID=Europe/London:20260426T203000
DTEND;TZID=Europe/London:20260426T210000
DTSTAMP:20260419T172012
CREATED:20260417T094353Z
LAST-MODIFIED:20260417T094353Z
UID:10019078-1777235400-1777237200@coftonholidays.co.uk
SUMMARY:Game Show / Quiz
DESCRIPTION:Get your thinking caps on as we test your grey matter with some fun themed quizzes or get involved in our popular game shows.
URL:https://coftonholidays.co.uk/event/game-show-quiz-2/2026-04-26/
LOCATION:Cofton Holiday Park\, Starcross\, Devon\, EX6 8RP\, United Kingdom
CATEGORIES:Entertainment
ATTACH;FMTTYPE=image/jpeg:https://coftonholidays.co.uk/wp-content/uploads/2017/01/Entertainment.jpg
END:VEVENT
BEGIN:VEVENT
DTSTART;TZID=Europe/London:20260426T210000
DTEND;TZID=Europe/London:20260426T220000
DTSTAMP:20260419T172012
CREATED:20260417T111030Z
LAST-MODIFIED:20260417T111030Z
UID:10019147-1777237200-1777240800@coftonholidays.co.uk
SUMMARY:Cofton Live
DESCRIPTION:Join us for Main stage Showtime where our Entertainment Team puts on one of their high energy shows that’s not to be missed.
URL:https://coftonholidays.co.uk/event/cofton-live-2/2026-04-26/
LOCATION:Cofton Holiday Park\, Starcross\, Devon\, EX6 8RP\, United Kingdom
CATEGORIES:Entertainment
ATTACH;FMTTYPE=image/jpeg:https://coftonholidays.co.uk/wp-content/uploads/2021/07/Cofton-Team-Shows.jpg
END:VEVENT
BEGIN:VEVENT
DTSTART;TZID=Europe/London:20260427T100000
DTEND;TZID=Europe/London:20260427T120000
DTSTAMP:20260419T172012
CREATED:20260413T125716Z
LAST-MODIFIED:20260413T125716Z
UID:10018851-1777284000-1777291200@coftonholidays.co.uk
SUMMARY:Toddler Water Soft Play
DESCRIPTION:Our Water Soft Play sessions contains a variety of different floats and toys\, which are designed for parents and tots to enjoy together and give your child the confidence around water from an early age. \nPrices:\nAdults – £7.50\nUnder 4s – Free
URL:https://coftonholidays.co.uk/event/toddler-water-soft-play-4/2026-04-27/
LOCATION:Cofton Holiday Park\, Starcross\, Devon\, EX6 8RP\, United Kingdom
CATEGORIES:Activities
ATTACH;FMTTYPE=image/jpeg:https://coftonholidays.co.uk/wp-content/uploads/2016/11/Swimming-pools-near-Exeter-e1564147744846.jpg
END:VEVENT
BEGIN:VEVENT
DTSTART;TZID=Europe/London:20260427T170000
DTEND;TZID=Europe/London:20260427T180000
DTSTAMP:20260419T172012
CREATED:20260417T092247Z
LAST-MODIFIED:20260417T093722Z
UID:10018903-1777309200-1777312800@coftonholidays.co.uk
SUMMARY:Little Legends
DESCRIPTION:Our evening entertainment kicks off with interactive fun and activities from face painting and circus skills to balloon modelling. Come on down\, make new friends and meet the Cofton Crew.
URL:https://coftonholidays.co.uk/event/little-legends/2026-04-27/
LOCATION:Cofton Holiday Park\, Starcross\, Devon\, EX6 8RP\, United Kingdom
CATEGORIES:Entertainment
ATTACH;FMTTYPE=image/jpeg:https://coftonholidays.co.uk/wp-content/uploads/2016/12/Entertainment-Toddlers-Holidays-Children-Devon-scaled.jpeg
END:VEVENT
BEGIN:VEVENT
DTSTART;TZID=Europe/London:20260427T180000
DTEND;TZID=Europe/London:20260427T183000
DTSTAMP:20260419T172012
CREATED:20260417T092659Z
LAST-MODIFIED:20260417T092826Z
UID:10018966-1777312800-1777314600@coftonholidays.co.uk
SUMMARY:Digby & Friends Story Time
DESCRIPTION:Don’t miss story time with Digby and the gang as they take you on an journey through one of they’re exciting adventures. Ever lasting laughs with Jaffa the Rabbit and Professor Cofton will sure to keep you wanting more!! But watch out for SNEAKY FOX\, he’s always up to no good.
URL:https://coftonholidays.co.uk/event/digby-friends-story-time-3/2026-04-27/
LOCATION:Cofton Holiday Park\, Starcross\, Devon\, EX6 8RP\, United Kingdom
CATEGORIES:Entertainment
ATTACH;FMTTYPE=image/jpeg:https://coftonholidays.co.uk/wp-content/uploads/2016/12/Digby-scaled.jpg
END:VEVENT
BEGIN:VEVENT
DTSTART;TZID=Europe/London:20260427T183000
DTEND;TZID=Europe/London:20260427T193000
DTSTAMP:20260419T172012
CREATED:20260417T094153Z
LAST-MODIFIED:20260417T111259Z
UID:10019099-1777314600-1777318200@coftonholidays.co.uk
SUMMARY:Cofton Kids Party Time
DESCRIPTION:Get ready for the ultimate party full of fun\, games\, party dances and more! Come and join in with all the games and challenges\, and immerse yourself in our party time!!!
URL:https://coftonholidays.co.uk/event/cofton-kids-party-time/2026-04-27/
LOCATION:Cofton Holiday Park\, Starcross\, Devon\, EX6 8RP\, United Kingdom
CATEGORIES:Entertainment
ATTACH;FMTTYPE=image/jpeg:https://coftonholidays.co.uk/wp-content/uploads/2016/12/Entertainment-Toddlers-Holidays-Children-Devon-scaled.jpeg
END:VEVENT
BEGIN:VEVENT
DTSTART;TZID=Europe/London:20260427T193000
DTEND;TZID=Europe/London:20260427T203000
DTSTAMP:20260419T172012
CREATED:20260417T093910Z
LAST-MODIFIED:20260417T111354Z
UID:10019119-1777318200-1777321800@coftonholidays.co.uk
SUMMARY:Bingo
DESCRIPTION:Eyes down and dabbers at the ready. \nEvery night during our evening entertainment there’s the chance to win some cash prizes in our daily game of bingo. \n(Tickets can be purchased from one of the entertainment team. Over 18s and cash sales only)
URL:https://coftonholidays.co.uk/event/bingo-9/2026-04-27/
LOCATION:Cofton Holiday Park\, Starcross\, Devon\, EX6 8RP\, United Kingdom
CATEGORIES:Entertainment
ATTACH;FMTTYPE=image/jpeg:https://coftonholidays.co.uk/wp-content/uploads/2023/09/balls-6077901-scaled.jpg
END:VEVENT
BEGIN:VEVENT
DTSTART;TZID=Europe/London:20260427T203000
DTEND;TZID=Europe/London:20260427T210000
DTSTAMP:20260419T172012
CREATED:20260417T094353Z
LAST-MODIFIED:20260417T094353Z
UID:10019079-1777321800-1777323600@coftonholidays.co.uk
SUMMARY:Game Show / Quiz
DESCRIPTION:Get your thinking caps on as we test your grey matter with some fun themed quizzes or get involved in our popular game shows.
URL:https://coftonholidays.co.uk/event/game-show-quiz-2/2026-04-27/
LOCATION:Cofton Holiday Park\, Starcross\, Devon\, EX6 8RP\, United Kingdom
CATEGORIES:Entertainment
ATTACH;FMTTYPE=image/jpeg:https://coftonholidays.co.uk/wp-content/uploads/2017/01/Entertainment.jpg
END:VEVENT
BEGIN:VEVENT
DTSTART;TZID=Europe/London:20260427T210000
DTEND;TZID=Europe/London:20260427T220000
DTSTAMP:20260419T172012
CREATED:20260417T111030Z
LAST-MODIFIED:20260417T111030Z
UID:10019148-1777323600-1777327200@coftonholidays.co.uk
SUMMARY:Cofton Live
DESCRIPTION:Join us for Main stage Showtime where our Entertainment Team puts on one of their high energy shows that’s not to be missed.
URL:https://coftonholidays.co.uk/event/cofton-live-2/2026-04-27/
LOCATION:Cofton Holiday Park\, Starcross\, Devon\, EX6 8RP\, United Kingdom
CATEGORIES:Entertainment
ATTACH;FMTTYPE=image/jpeg:https://coftonholidays.co.uk/wp-content/uploads/2021/07/Cofton-Team-Shows.jpg
END:VEVENT
BEGIN:VEVENT
DTSTART;TZID=Europe/London:20260428T170000
DTEND;TZID=Europe/London:20260428T180000
DTSTAMP:20260419T172012
CREATED:20260417T092247Z
LAST-MODIFIED:20260417T093722Z
UID:10018904-1777395600-1777399200@coftonholidays.co.uk
SUMMARY:Little Legends
DESCRIPTION:Our evening entertainment kicks off with interactive fun and activities from face painting and circus skills to balloon modelling. Come on down\, make new friends and meet the Cofton Crew.
URL:https://coftonholidays.co.uk/event/little-legends/2026-04-28/
LOCATION:Cofton Holiday Park\, Starcross\, Devon\, EX6 8RP\, United Kingdom
CATEGORIES:Entertainment
ATTACH;FMTTYPE=image/jpeg:https://coftonholidays.co.uk/wp-content/uploads/2016/12/Entertainment-Toddlers-Holidays-Children-Devon-scaled.jpeg
END:VEVENT
BEGIN:VEVENT
DTSTART;TZID=Europe/London:20260428T180000
DTEND;TZID=Europe/London:20260428T183000
DTSTAMP:20260419T172012
CREATED:20260417T092659Z
LAST-MODIFIED:20260417T092826Z
UID:10018967-1777399200-1777401000@coftonholidays.co.uk
SUMMARY:Digby & Friends Story Time
DESCRIPTION:Don’t miss story time with Digby and the gang as they take you on an journey through one of they’re exciting adventures. Ever lasting laughs with Jaffa the Rabbit and Professor Cofton will sure to keep you wanting more!! But watch out for SNEAKY FOX\, he’s always up to no good.
URL:https://coftonholidays.co.uk/event/digby-friends-story-time-3/2026-04-28/
LOCATION:Cofton Holiday Park\, Starcross\, Devon\, EX6 8RP\, United Kingdom
CATEGORIES:Entertainment
ATTACH;FMTTYPE=image/jpeg:https://coftonholidays.co.uk/wp-content/uploads/2016/12/Digby-scaled.jpg
END:VEVENT
BEGIN:VEVENT
DTSTART;TZID=Europe/London:20260428T183000
DTEND;TZID=Europe/London:20260428T193000
DTSTAMP:20260419T172012
CREATED:20260417T094153Z
LAST-MODIFIED:20260417T111259Z
UID:10019100-1777401000-1777404600@coftonholidays.co.uk
SUMMARY:Cofton Kids Party Time
DESCRIPTION:Get ready for the ultimate party full of fun\, games\, party dances and more! Come and join in with all the games and challenges\, and immerse yourself in our party time!!!
URL:https://coftonholidays.co.uk/event/cofton-kids-party-time/2026-04-28/
LOCATION:Cofton Holiday Park\, Starcross\, Devon\, EX6 8RP\, United Kingdom
CATEGORIES:Entertainment
ATTACH;FMTTYPE=image/jpeg:https://coftonholidays.co.uk/wp-content/uploads/2016/12/Entertainment-Toddlers-Holidays-Children-Devon-scaled.jpeg
END:VEVENT
BEGIN:VEVENT
DTSTART;TZID=Europe/London:20260428T193000
DTEND;TZID=Europe/London:20260428T203000
DTSTAMP:20260419T172012
CREATED:20260417T093910Z
LAST-MODIFIED:20260417T111354Z
UID:10019120-1777404600-1777408200@coftonholidays.co.uk
SUMMARY:Bingo
DESCRIPTION:Eyes down and dabbers at the ready. \nEvery night during our evening entertainment there’s the chance to win some cash prizes in our daily game of bingo. \n(Tickets can be purchased from one of the entertainment team. Over 18s and cash sales only)
URL:https://coftonholidays.co.uk/event/bingo-9/2026-04-28/
LOCATION:Cofton Holiday Park\, Starcross\, Devon\, EX6 8RP\, United Kingdom
CATEGORIES:Entertainment
ATTACH;FMTTYPE=image/jpeg:https://coftonholidays.co.uk/wp-content/uploads/2023/09/balls-6077901-scaled.jpg
END:VEVENT
BEGIN:VEVENT
DTSTART;TZID=Europe/London:20260428T203000
DTEND;TZID=Europe/London:20260428T210000
DTSTAMP:20260419T172012
CREATED:20260417T094353Z
LAST-MODIFIED:20260417T094353Z
UID:10019080-1777408200-1777410000@coftonholidays.co.uk
SUMMARY:Game Show / Quiz
DESCRIPTION:Get your thinking caps on as we test your grey matter with some fun themed quizzes or get involved in our popular game shows.
URL:https://coftonholidays.co.uk/event/game-show-quiz-2/2026-04-28/
LOCATION:Cofton Holiday Park\, Starcross\, Devon\, EX6 8RP\, United Kingdom
CATEGORIES:Entertainment
ATTACH;FMTTYPE=image/jpeg:https://coftonholidays.co.uk/wp-content/uploads/2017/01/Entertainment.jpg
END:VEVENT
BEGIN:VEVENT
DTSTART;TZID=Europe/London:20260428T210000
DTEND;TZID=Europe/London:20260428T220000
DTSTAMP:20260419T172012
CREATED:20260417T111030Z
LAST-MODIFIED:20260417T111030Z
UID:10019149-1777410000-1777413600@coftonholidays.co.uk
SUMMARY:Cofton Live
DESCRIPTION:Join us for Main stage Showtime where our Entertainment Team puts on one of their high energy shows that’s not to be missed.
URL:https://coftonholidays.co.uk/event/cofton-live-2/2026-04-28/
LOCATION:Cofton Holiday Park\, Starcross\, Devon\, EX6 8RP\, United Kingdom
CATEGORIES:Entertainment
ATTACH;FMTTYPE=image/jpeg:https://coftonholidays.co.uk/wp-content/uploads/2021/07/Cofton-Team-Shows.jpg
END:VEVENT
BEGIN:VEVENT
DTSTART;TZID=Europe/London:20260429T100000
DTEND;TZID=Europe/London:20260429T120000
DTSTAMP:20260419T172012
CREATED:20260413T125716Z
LAST-MODIFIED:20260413T125716Z
UID:10018852-1777456800-1777464000@coftonholidays.co.uk
SUMMARY:Toddler Water Soft Play
DESCRIPTION:Our Water Soft Play sessions contains a variety of different floats and toys\, which are designed for parents and tots to enjoy together and give your child the confidence around water from an early age. \nPrices:\nAdults – £7.50\nUnder 4s – Free
URL:https://coftonholidays.co.uk/event/toddler-water-soft-play-4/2026-04-29/
LOCATION:Cofton Holiday Park\, Starcross\, Devon\, EX6 8RP\, United Kingdom
CATEGORIES:Activities
ATTACH;FMTTYPE=image/jpeg:https://coftonholidays.co.uk/wp-content/uploads/2016/11/Swimming-pools-near-Exeter-e1564147744846.jpg
END:VEVENT
BEGIN:VEVENT
DTSTART;TZID=Europe/London:20260429T170000
DTEND;TZID=Europe/London:20260429T180000
DTSTAMP:20260419T172012
CREATED:20260417T092247Z
LAST-MODIFIED:20260417T093722Z
UID:10018905-1777482000-1777485600@coftonholidays.co.uk
SUMMARY:Little Legends
DESCRIPTION:Our evening entertainment kicks off with interactive fun and activities from face painting and circus skills to balloon modelling. Come on down\, make new friends and meet the Cofton Crew.
URL:https://coftonholidays.co.uk/event/little-legends/2026-04-29/
LOCATION:Cofton Holiday Park\, Starcross\, Devon\, EX6 8RP\, United Kingdom
CATEGORIES:Entertainment
ATTACH;FMTTYPE=image/jpeg:https://coftonholidays.co.uk/wp-content/uploads/2016/12/Entertainment-Toddlers-Holidays-Children-Devon-scaled.jpeg
END:VEVENT
BEGIN:VEVENT
DTSTART;TZID=Europe/London:20260429T180000
DTEND;TZID=Europe/London:20260429T183000
DTSTAMP:20260419T172012
CREATED:20260417T092659Z
LAST-MODIFIED:20260417T092826Z
UID:10018968-1777485600-1777487400@coftonholidays.co.uk
SUMMARY:Digby & Friends Story Time
DESCRIPTION:Don’t miss story time with Digby and the gang as they take you on an journey through one of they’re exciting adventures. Ever lasting laughs with Jaffa the Rabbit and Professor Cofton will sure to keep you wanting more!! But watch out for SNEAKY FOX\, he’s always up to no good.
URL:https://coftonholidays.co.uk/event/digby-friends-story-time-3/2026-04-29/
LOCATION:Cofton Holiday Park\, Starcross\, Devon\, EX6 8RP\, United Kingdom
CATEGORIES:Entertainment
ATTACH;FMTTYPE=image/jpeg:https://coftonholidays.co.uk/wp-content/uploads/2016/12/Digby-scaled.jpg
END:VEVENT
END:VCALENDAR