BEGIN:VCALENDAR
VERSION:2.0
PRODID:-//Cofton Holidays - ECPv6.15.17//NONSGML v1.0//EN
CALSCALE:GREGORIAN
METHOD:PUBLISH
X-WR-CALNAME:Cofton Holidays
X-ORIGINAL-URL:https://coftonholidays.co.uk
X-WR-CALDESC:Events for Cofton Holidays
REFRESH-INTERVAL;VALUE=DURATION:PT1H
X-Robots-Tag:noindex
X-PUBLISHED-TTL:PT1H
BEGIN:VTIMEZONE
TZID:Europe/London
BEGIN:DAYLIGHT
TZOFFSETFROM:+0000
TZOFFSETTO:+0100
TZNAME:BST
DTSTART:20250330T010000
END:DAYLIGHT
BEGIN:STANDARD
TZOFFSETFROM:+0100
TZOFFSETTO:+0000
TZNAME:GMT
DTSTART:20251026T010000
END:STANDARD
BEGIN:DAYLIGHT
TZOFFSETFROM:+0000
TZOFFSETTO:+0100
TZNAME:BST
DTSTART:20260329T010000
END:DAYLIGHT
BEGIN:STANDARD
TZOFFSETFROM:+0100
TZOFFSETTO:+0000
TZNAME:GMT
DTSTART:20261025T010000
END:STANDARD
BEGIN:DAYLIGHT
TZOFFSETFROM:+0000
TZOFFSETTO:+0100
TZNAME:BST
DTSTART:20270328T010000
END:DAYLIGHT
BEGIN:STANDARD
TZOFFSETFROM:+0100
TZOFFSETTO:+0000
TZNAME:GMT
DTSTART:20271031T010000
END:STANDARD
END:VTIMEZONE
BEGIN:VEVENT
DTSTART;TZID=Europe/London:20260510T170000
DTEND;TZID=Europe/London:20260510T233000
DTSTAMP:20260424T173306
CREATED:20260421T111856Z
LAST-MODIFIED:20260421T111856Z
UID:10019203-1778432400-1778455800@coftonholidays.co.uk
SUMMARY:Rock 'n Roll Jivefest Week
DESCRIPTION:Get ready to Twist and Shout in our rockabilly week as we celebrate the music and fashion of the 50s and 60s. \n5:00pm – Little Rock n Roll Legends \n6:00pm – Cofton’s Rock n Roll Kids Party Time – Rock n Roll themed disco for the kids \n7:00pm – Bingo – Eyes down and dabbers at the ready \n7:30pm – Bingo Beats – A musical version of Bingo \n8:00pm – Quiz – Test your knowledge in our themed quiz \n8:30pm – Marc Robinson’s 50s Show – A nostalgia fuelled show full of Rock n Roll classics \n9:30pm – Marc Robinson as Buddy Holly – Delivering on the iconic look Marc Robinson performs a fun packed Rock n Roll show celebrating the music of Buddy Holly \n10:30pm – Late Night Rock n Roll After Party – We continue the party late into the night
URL:https://coftonholidays.co.uk/event/rock-n-roll-jivefest-week-6/
LOCATION:Cofton Holiday Park\, Starcross\, Devon\, EX6 8RP\, United Kingdom
CATEGORIES:Cofton Events,Entertainment,What’s On Locally
ATTACH;FMTTYPE=image/jpeg:https://coftonholidays.co.uk/wp-content/uploads/2025/12/Rock-n-Roll_1920x1080.jpg
END:VEVENT
BEGIN:VEVENT
DTSTART;TZID=Europe/London:20260510T100000
DTEND;TZID=Europe/London:20260510T110000
DTSTAMP:20260424T173306
CREATED:20260413T125335Z
LAST-MODIFIED:20260413T125335Z
UID:10018834-1778407200-1778410800@coftonholidays.co.uk
SUMMARY:Pottery Painting
DESCRIPTION:Get creative in our fun pottery painting workshop and create a souvenir of your holiday to take home. \nBook Your Session
URL:https://coftonholidays.co.uk/event/pottery-painting/2026-05-10/
LOCATION:Cofton Holiday Park\, Starcross\, Devon\, EX6 8RP\, United Kingdom
CATEGORIES:Activities
ATTACH;FMTTYPE=image/jpeg:https://coftonholidays.co.uk/wp-content/uploads/2025/07/close-up-hands-painting-item-scaled.jpg
END:VEVENT
BEGIN:VEVENT
DTSTART;TZID=Europe/London:20260509T170000
DTEND;TZID=Europe/London:20260509T233000
DTSTAMP:20260424T173307
CREATED:20260421T095554Z
LAST-MODIFIED:20260421T100040Z
UID:10019202-1778346000-1778369400@coftonholidays.co.uk
SUMMARY:Rock 'n Roll Jivefest Week
DESCRIPTION:Get ready to Twist and Shout in our rockabilly week as we celebrate the music and fashion of the 50s and 60s. \n5:00pm – Little Rock n Roll Legends \n6:00pm – Cofton’s Rock n Roll Kids Party Time – Rock n Roll themed disco for the kids \n7:00pm – Bingo – Eyes down and dabbers at the ready \n7:30pm – Bingo Beats – A musical version of Bingo \n8:00pm – Quiz – Test your knowledge in our themed quiz \n8:15pm – Cofton Live – Our Entertainment Team presents a show of classic Rock n Roll hits \n9:00pm – The Houndogs – an energetic Rockabilly and Roll n Roll band of three brothers playing their own songs alongside covers of classics by the likes of Elvis\, Buddy Holly and The Stray Cats \n11:00pm – Late Night Rock n Roll After Party – We continue the party late into the night
URL:https://coftonholidays.co.uk/event/rock-n-roll-jivefest-week-5/
LOCATION:Cofton Holiday Park\, Starcross\, Devon\, EX6 8RP\, United Kingdom
CATEGORIES:Cofton Events,Entertainment,What’s On Locally
ATTACH;FMTTYPE=image/jpeg:https://coftonholidays.co.uk/wp-content/uploads/2025/12/Rock-n-Roll_1920x1080.jpg
END:VEVENT
BEGIN:VEVENT
DTSTART;TZID=Europe/London:20260509T100000
DTEND;TZID=Europe/London:20260509T120000
DTSTAMP:20260424T173307
CREATED:20260420T140522Z
LAST-MODIFIED:20260421T112232Z
UID:10019196-1778320800-1778328000@coftonholidays.co.uk
SUMMARY:Treetop High Ropes Sessions
DESCRIPTION:Get ready for adventure at our tree top high ropes course. Rising 8 metres from the ground\, our tree top adventure course will get your heart racing and your blood pumping as you navigate and traverse your way across 16 sections through the Cofton woods. Test your balance on tightropes and cross rickety bridges\, take on challenging obstacles and zip line back to the ground all whilst being safely harnessed in. \nWe have sessions running throughout the day. Book your session and get ready for the ultimate treetop adventure. \nTo take part you must be a: \n• Minimum of 8 years of age\n• Maximum weight of 120kg\n• Minimum of 1.2m height (Children  aged 8-10 years of age should be accompanied by an adult to aid them with the belay system) \nBook Treetop Adventure sessions
URL:https://coftonholidays.co.uk/event/treetop-high-ropes-sessions-duplicate/2026-05-09/
LOCATION:Cofton Holiday Park\, Starcross\, Devon\, EX6 8RP\, United Kingdom
CATEGORIES:Activities
ATTACH;FMTTYPE=image/jpeg:https://coftonholidays.co.uk/wp-content/uploads/2022/08/high-ropes.jpg
END:VEVENT
BEGIN:VEVENT
DTSTART;TZID=Europe/London:20260509T100000
DTEND;TZID=Europe/London:20260509T110000
DTSTAMP:20260424T173307
CREATED:20260413T125150Z
LAST-MODIFIED:20260413T125150Z
UID:10018809-1778320800-1778324400@coftonholidays.co.uk
SUMMARY:Teddy Bear Workshop
DESCRIPTION:Unleash your imagination and experience the joy of bringing your very own teddy to life at Cofton Holidays! Our exciting Teddy Bear Workshop invites you to craft your own cuddly companion\, choosing from our adorable designs to stuff and cherish forever. \nGuided by our friendly team\, this hands-on experience is filled with creativity and laughter – the perfect way to make your holiday at Cofton even more magical. \nBook here
URL:https://coftonholidays.co.uk/event/teddy-bear-workshop-4/2026-05-09/
LOCATION:Cofton Holiday Park\, Starcross\, Devon\, EX6 8RP\, United Kingdom
CATEGORIES:Activities
ATTACH;FMTTYPE=image/jpeg:https://coftonholidays.co.uk/wp-content/uploads/2024/12/Teddy-bear-workshop-web.jpg
END:VEVENT
BEGIN:VEVENT
DTSTART;TZID=Europe/London:20260508T170000
DTEND;TZID=Europe/London:20260508T233000
DTSTAMP:20260424T173307
CREATED:20260421T112911Z
LAST-MODIFIED:20260421T112930Z
UID:10019204-1778259600-1778283000@coftonholidays.co.uk
SUMMARY:Rock 'n Roll Jivefest Week
DESCRIPTION:Get ready to Twist and Shout in our rockabilly week as we celebrate the music and fashion of the 50s and 60s. \n5:00pm – Little Rock n Roll Legends \n6:00pm – Cofton’s Rock n Roll Kids Party Time – Rock n Roll themed disco for the kids \n7:00pm – Bingo – Eyes down and dabbers at the ready \n7:30pm – Bingo Beats – A musical version of Bingo \n8:00pm – Quiz – Test your knowledge in our themed quiz \n8:15pm – Cofton Live – Our Entertainment Team presents a show of classic Rock n Roll hits \n9:15pm – Danny Graceland as Elvis – An authentic tribute to the undisputed King of Rock n Roll \n11:00pm – Late Night Rock n Roll After Party – We continue the party late into the night
URL:https://coftonholidays.co.uk/event/rock-n-roll-jivefest-week-duplicate/
LOCATION:Cofton Holiday Park\, Starcross\, Devon\, EX6 8RP\, United Kingdom
CATEGORIES:Cofton Events,Entertainment,What’s On Locally
ATTACH;FMTTYPE=image/jpeg:https://coftonholidays.co.uk/wp-content/uploads/2025/12/Rock-n-Roll_1920x1080.jpg
END:VEVENT
BEGIN:VEVENT
DTSTART;TZID=Europe/London:20260507T170000
DTEND;TZID=Europe/London:20260507T233000
DTSTAMP:20260424T173307
CREATED:20260421T094734Z
LAST-MODIFIED:20260421T094734Z
UID:10019201-1778173200-1778196600@coftonholidays.co.uk
SUMMARY:Rock 'n Roll Jivefest Week
DESCRIPTION:Get ready to Twist and Shout in our rockabilly week as we celebrate the music and fashion of the 50s and 60s. \n5:00pm – Little Rock n Roll Legends \n6:00pm – Cofton’s Rock n Roll Kids Party Time – Rock n Roll themed disco for the kids \n7:00pm – Bingo – Eyes down and dabbers at the ready \n7:30pm – Bingo Beats – A musical version of Bingo \n8:00pm – Quiz – Test your knowledge in our themed quiz \n8:30pm – Rockin’ The Joint – including songs by Elvis Presley\, Carl Perkins\, Johnny Burnette\, Chuck Berry and Eddie Cochran\, 3-piece Rockin’ the Joint are one of the UK’s leading rock and roll groups \n10:30pm – Late Night Rock n Roll After Party – We continue the party late into the night
URL:https://coftonholidays.co.uk/event/rock-n-roll-jivefest-week-4/
LOCATION:Cofton Holiday Park\, Starcross\, Devon\, EX6 8RP\, United Kingdom
CATEGORIES:Cofton Events,Entertainment,What’s On Locally
ATTACH;FMTTYPE=image/jpeg:https://coftonholidays.co.uk/wp-content/uploads/2025/12/Rock-n-Roll_1920x1080.jpg
END:VEVENT
BEGIN:VEVENT
DTSTART;TZID=Europe/London:20260507T100000
DTEND;TZID=Europe/London:20260507T120000
DTSTAMP:20260424T173307
CREATED:20260413T125716Z
LAST-MODIFIED:20260413T125716Z
UID:10018856-1778148000-1778155200@coftonholidays.co.uk
SUMMARY:Toddler Water Soft Play
DESCRIPTION:Our Water Soft Play sessions contains a variety of different floats and toys\, which are designed for parents and tots to enjoy together and give your child the confidence around water from an early age. \nPrices:\nAdults – £7.50\nUnder 4s – Free
URL:https://coftonholidays.co.uk/event/toddler-water-soft-play-4/2026-05-07/
LOCATION:Cofton Holiday Park\, Starcross\, Devon\, EX6 8RP\, United Kingdom
CATEGORIES:Activities
ATTACH;FMTTYPE=image/jpeg:https://coftonholidays.co.uk/wp-content/uploads/2016/11/Swimming-pools-near-Exeter-e1564147744846.jpg
END:VEVENT
BEGIN:VEVENT
DTSTART;TZID=Europe/London:20260506T170000
DTEND;TZID=Europe/London:20260506T233000
DTSTAMP:20260424T173307
CREATED:20260421T094533Z
LAST-MODIFIED:20260421T094533Z
UID:10019200-1778086800-1778110200@coftonholidays.co.uk
SUMMARY:Rock 'n Roll Jivefest Week
DESCRIPTION:Get ready to Twist and Shout in our rockabilly week as we celebrate the music and fashion of the 50s and 60s. \n5:00pm – Little Rock n Roll Legends \n6:00pm – Cofton’s Rock n Roll Kids Party Time – Rock n Roll themed disco for the kids \n7:00pm – Bingo – Eyes down and dabbers at the ready \n7:30pm – Bingo Beats – A musical version of Bingo \n8:00pm – Quiz – Test your knowledge in our themed quiz \n8:30pm – The Alligators – Steeped in classic rock ’n’ roll\, The Alligators are an unstoppable force delivering the kind of live show you don’t just watch — you experience \n10:30pm – Late Night Rock n Roll After Party – We continue the party late into the night
URL:https://coftonholidays.co.uk/event/rock-n-roll-jivefest-week-3/
LOCATION:Cofton Holiday Park\, Starcross\, Devon\, EX6 8RP\, United Kingdom
CATEGORIES:Cofton Events,Entertainment,What’s On Locally
ATTACH;FMTTYPE=image/jpeg:https://coftonholidays.co.uk/wp-content/uploads/2025/12/Rock-n-Roll_1920x1080.jpg
END:VEVENT
BEGIN:VEVENT
DTSTART;TZID=Europe/London:20260506T100000
DTEND;TZID=Europe/London:20260506T120000
DTSTAMP:20260424T173307
CREATED:20260413T125716Z
LAST-MODIFIED:20260413T125716Z
UID:10018855-1778061600-1778068800@coftonholidays.co.uk
SUMMARY:Toddler Water Soft Play
DESCRIPTION:Our Water Soft Play sessions contains a variety of different floats and toys\, which are designed for parents and tots to enjoy together and give your child the confidence around water from an early age. \nPrices:\nAdults – £7.50\nUnder 4s – Free
URL:https://coftonholidays.co.uk/event/toddler-water-soft-play-4/2026-05-06/
LOCATION:Cofton Holiday Park\, Starcross\, Devon\, EX6 8RP\, United Kingdom
CATEGORIES:Activities
ATTACH;FMTTYPE=image/jpeg:https://coftonholidays.co.uk/wp-content/uploads/2016/11/Swimming-pools-near-Exeter-e1564147744846.jpg
END:VEVENT
BEGIN:VEVENT
DTSTART;TZID=Europe/London:20260505T170000
DTEND;TZID=Europe/London:20260505T233000
DTSTAMP:20260424T173307
CREATED:20260421T094240Z
LAST-MODIFIED:20260421T094240Z
UID:10019199-1778000400-1778023800@coftonholidays.co.uk
SUMMARY:Rock 'n Roll Jivefest Week
DESCRIPTION:Get ready to Twist and Shout in our rockabilly week as we celebrate the music and fashion of the 50s and 60s. \n5:00pm – Little Rock n Roll Legends \n6:00pm – Cofton’s Rock n Roll Kids Party Time – Rock n Roll themed disco for the kids \n7:00pm – Bingo – Eyes down and dabbers at the ready \n7:30pm – Bingo Beats – A musical version of Bingo \n8:00pm – Quiz – Test your knowledge in our themed quiz \n8:30pm – Buzz D’Angelo – Performing classic Rock n Roll hits \n9:30pm – Buzz D’Angelo as Little Richard – Get ready for the unmistakable sound of The Architect of Rock & Roll literally that “shook up” the world of music. \n10:30pm – Late Night Rock n Roll After Party – We continue the party late into the night
URL:https://coftonholidays.co.uk/event/rock-n-roll-jivefest-week-2/
LOCATION:Cofton Holiday Park\, Starcross\, Devon\, EX6 8RP\, United Kingdom
CATEGORIES:Cofton Events,Entertainment,What’s On Locally
ATTACH;FMTTYPE=image/jpeg:https://coftonholidays.co.uk/wp-content/uploads/2025/12/Rock-n-Roll_1920x1080.jpg
END:VEVENT
BEGIN:VEVENT
DTSTART;TZID=Europe/London:20260504T170000
DTEND;TZID=Europe/London:20260504T233000
DTSTAMP:20260424T173307
CREATED:20251216T111850Z
LAST-MODIFIED:20260421T093907Z
UID:10017023-1777914000-1777937400@coftonholidays.co.uk
SUMMARY:Rock 'n Roll Jivefest Week
DESCRIPTION:Get ready to Twist and Shout in our rockabilly week as we celebrate the music and fashion of the 50s and 60s. \n5:00pm – Little Rock n Roll Legends \n6:00pm – Cofton’s Rock n Roll Kids Party Time – Rock n Roll themed disco for the kids \n7:00pm – Bingo – Eyes down and dabbers at the ready \n7:30pm – Bingo Beats – A musical version of Bingo \n8:00pm – Quiz – Test your knowledge in our themed quiz \n8:30pm – Peter Gill as Jerry Lee Lewis – Featuring all the hits of one of the 1950s greatest rock ‘n roll icons \n10:30pm – Late Night Rock n Roll After Party – We continue the party late into the night
URL:https://coftonholidays.co.uk/event/rock-n-roll-jivefest-week/
LOCATION:Cofton Holiday Park\, Starcross\, Devon\, EX6 8RP\, United Kingdom
CATEGORIES:Cofton Events,Entertainment,What’s On Locally
ATTACH;FMTTYPE=image/jpeg:https://coftonholidays.co.uk/wp-content/uploads/2025/12/Rock-n-Roll_1920x1080.jpg
END:VEVENT
BEGIN:VEVENT
DTSTART;TZID=Europe/London:20260504T100000
DTEND;TZID=Europe/London:20260504T120000
DTSTAMP:20260424T173307
CREATED:20260413T125716Z
LAST-MODIFIED:20260413T125716Z
UID:10018854-1777888800-1777896000@coftonholidays.co.uk
SUMMARY:Toddler Water Soft Play
DESCRIPTION:Our Water Soft Play sessions contains a variety of different floats and toys\, which are designed for parents and tots to enjoy together and give your child the confidence around water from an early age. \nPrices:\nAdults – £7.50\nUnder 4s – Free
URL:https://coftonholidays.co.uk/event/toddler-water-soft-play-4/2026-05-04/
LOCATION:Cofton Holiday Park\, Starcross\, Devon\, EX6 8RP\, United Kingdom
CATEGORIES:Activities
ATTACH;FMTTYPE=image/jpeg:https://coftonholidays.co.uk/wp-content/uploads/2016/11/Swimming-pools-near-Exeter-e1564147744846.jpg
END:VEVENT
BEGIN:VEVENT
DTSTART;TZID=Europe/London:20260503T210000
DTEND;TZID=Europe/London:20260503T220000
DTSTAMP:20260424T173307
CREATED:20260417T111030Z
LAST-MODIFIED:20260417T111030Z
UID:10019151-1777842000-1777845600@coftonholidays.co.uk
SUMMARY:Cofton Live
DESCRIPTION:Join us for Main stage Showtime where our Entertainment Team puts on one of their high energy shows that’s not to be missed.
URL:https://coftonholidays.co.uk/event/cofton-live-2/2026-05-03/
LOCATION:Cofton Holiday Park\, Starcross\, Devon\, EX6 8RP\, United Kingdom
CATEGORIES:Entertainment
ATTACH;FMTTYPE=image/jpeg:https://coftonholidays.co.uk/wp-content/uploads/2021/07/Cofton-Team-Shows.jpg
END:VEVENT
BEGIN:VEVENT
DTSTART;TZID=Europe/London:20260503T203000
DTEND;TZID=Europe/London:20260503T210000
DTSTAMP:20260424T173307
CREATED:20260417T094353Z
LAST-MODIFIED:20260417T094353Z
UID:10019085-1777840200-1777842000@coftonholidays.co.uk
SUMMARY:Game Show / Quiz
DESCRIPTION:Get your thinking caps on as we test your grey matter with some fun themed quizzes or get involved in our popular game shows.
URL:https://coftonholidays.co.uk/event/game-show-quiz-2/2026-05-03/
LOCATION:Cofton Holiday Park\, Starcross\, Devon\, EX6 8RP\, United Kingdom
CATEGORIES:Entertainment
ATTACH;FMTTYPE=image/jpeg:https://coftonholidays.co.uk/wp-content/uploads/2017/01/Entertainment.jpg
END:VEVENT
BEGIN:VEVENT
DTSTART;TZID=Europe/London:20260503T193000
DTEND;TZID=Europe/London:20260503T203000
DTSTAMP:20260424T173307
CREATED:20260417T093910Z
LAST-MODIFIED:20260417T111354Z
UID:10019125-1777836600-1777840200@coftonholidays.co.uk
SUMMARY:Bingo
DESCRIPTION:Eyes down and dabbers at the ready. \nEvery night during our evening entertainment there’s the chance to win some cash prizes in our daily game of bingo. \n(Tickets can be purchased from one of the entertainment team. Over 18s and cash sales only)
URL:https://coftonholidays.co.uk/event/bingo-9/2026-05-03/
LOCATION:Cofton Holiday Park\, Starcross\, Devon\, EX6 8RP\, United Kingdom
CATEGORIES:Entertainment
ATTACH;FMTTYPE=image/jpeg:https://coftonholidays.co.uk/wp-content/uploads/2023/09/balls-6077901-scaled.jpg
END:VEVENT
BEGIN:VEVENT
DTSTART;TZID=Europe/London:20260503T183000
DTEND;TZID=Europe/London:20260503T193000
DTSTAMP:20260424T173307
CREATED:20260417T094153Z
LAST-MODIFIED:20260417T111259Z
UID:10019105-1777833000-1777836600@coftonholidays.co.uk
SUMMARY:Cofton Kids Party Time
DESCRIPTION:Get ready for the ultimate party full of fun\, games\, party dances and more! Come and join in with all the games and challenges\, and immerse yourself in our party time!!!
URL:https://coftonholidays.co.uk/event/cofton-kids-party-time/2026-05-03/
LOCATION:Cofton Holiday Park\, Starcross\, Devon\, EX6 8RP\, United Kingdom
CATEGORIES:Entertainment
ATTACH;FMTTYPE=image/jpeg:https://coftonholidays.co.uk/wp-content/uploads/2016/12/Entertainment-Toddlers-Holidays-Children-Devon-scaled.jpeg
END:VEVENT
BEGIN:VEVENT
DTSTART;TZID=Europe/London:20260503T180000
DTEND;TZID=Europe/London:20260503T183000
DTSTAMP:20260424T173307
CREATED:20260417T092659Z
LAST-MODIFIED:20260417T092826Z
UID:10018972-1777831200-1777833000@coftonholidays.co.uk
SUMMARY:Digby & Friends Story Time
DESCRIPTION:Don’t miss story time with Digby and the gang as they take you on an journey through one of they’re exciting adventures. Ever lasting laughs with Jaffa the Rabbit and Professor Cofton will sure to keep you wanting more!! But watch out for SNEAKY FOX\, he’s always up to no good.
URL:https://coftonholidays.co.uk/event/digby-friends-story-time-3/2026-05-03/
LOCATION:Cofton Holiday Park\, Starcross\, Devon\, EX6 8RP\, United Kingdom
CATEGORIES:Entertainment
ATTACH;FMTTYPE=image/jpeg:https://coftonholidays.co.uk/wp-content/uploads/2016/12/Digby-scaled.jpg
END:VEVENT
BEGIN:VEVENT
DTSTART;TZID=Europe/London:20260503T170000
DTEND;TZID=Europe/London:20260503T180000
DTSTAMP:20260424T173307
CREATED:20260417T092247Z
LAST-MODIFIED:20260421T112132Z
UID:10018909-1777827600-1777831200@coftonholidays.co.uk
SUMMARY:Little Legends
DESCRIPTION:Our evening entertainment kicks off with interactive fun and activities from face painting and circus skills to balloon modelling. Come on down\, make new friends and meet the Cofton Crew.
URL:https://coftonholidays.co.uk/event/little-legends/2026-05-03/
LOCATION:Cofton Holiday Park\, Starcross\, Devon\, EX6 8RP\, United Kingdom
CATEGORIES:Entertainment
ATTACH;FMTTYPE=image/jpeg:https://coftonholidays.co.uk/wp-content/uploads/2016/12/Entertainment-Toddlers-Holidays-Children-Devon-scaled.jpeg
END:VEVENT
BEGIN:VEVENT
DTSTART;TZID=Europe/London:20260503T100000
DTEND;TZID=Europe/London:20260503T110000
DTSTAMP:20260424T173307
CREATED:20260413T125335Z
LAST-MODIFIED:20260413T125335Z
UID:10018833-1777802400-1777806000@coftonholidays.co.uk
SUMMARY:Pottery Painting
DESCRIPTION:Get creative in our fun pottery painting workshop and create a souvenir of your holiday to take home. \nBook Your Session
URL:https://coftonholidays.co.uk/event/pottery-painting/2026-05-03/
LOCATION:Cofton Holiday Park\, Starcross\, Devon\, EX6 8RP\, United Kingdom
CATEGORIES:Activities
ATTACH;FMTTYPE=image/jpeg:https://coftonholidays.co.uk/wp-content/uploads/2025/07/close-up-hands-painting-item-scaled.jpg
END:VEVENT
BEGIN:VEVENT
DTSTART;TZID=Europe/London:20260502T210000
DTEND;TZID=Europe/London:20260502T220000
DTSTAMP:20260424T173307
CREATED:20260417T174325Z
LAST-MODIFIED:20260417T174325Z
UID:10019162-1777755600-1777759200@coftonholidays.co.uk
SUMMARY:Vocal Duo - Duology
DESCRIPTION:Duology are bringing the party with an upbeat performance of classic pop songs to get you dancing.
URL:https://coftonholidays.co.uk/event/vocal-duo-duology/
LOCATION:Cofton Holiday Park\, Starcross\, Devon\, EX6 8RP\, United Kingdom
CATEGORIES:Entertainment
ATTACH;FMTTYPE=image/jpeg:https://coftonholidays.co.uk/wp-content/uploads/2026/04/duplogy.jpg
END:VEVENT
BEGIN:VEVENT
DTSTART;TZID=Europe/London:20260502T203000
DTEND;TZID=Europe/London:20260502T210000
DTSTAMP:20260424T173307
CREATED:20260417T094353Z
LAST-MODIFIED:20260417T094353Z
UID:10019084-1777753800-1777755600@coftonholidays.co.uk
SUMMARY:Game Show / Quiz
DESCRIPTION:Get your thinking caps on as we test your grey matter with some fun themed quizzes or get involved in our popular game shows.
URL:https://coftonholidays.co.uk/event/game-show-quiz-2/2026-05-02/
LOCATION:Cofton Holiday Park\, Starcross\, Devon\, EX6 8RP\, United Kingdom
CATEGORIES:Entertainment
ATTACH;FMTTYPE=image/jpeg:https://coftonholidays.co.uk/wp-content/uploads/2017/01/Entertainment.jpg
END:VEVENT
BEGIN:VEVENT
DTSTART;TZID=Europe/London:20260502T193000
DTEND;TZID=Europe/London:20260502T203000
DTSTAMP:20260424T173307
CREATED:20260417T093910Z
LAST-MODIFIED:20260417T111354Z
UID:10019124-1777750200-1777753800@coftonholidays.co.uk
SUMMARY:Bingo
DESCRIPTION:Eyes down and dabbers at the ready. \nEvery night during our evening entertainment there’s the chance to win some cash prizes in our daily game of bingo. \n(Tickets can be purchased from one of the entertainment team. Over 18s and cash sales only)
URL:https://coftonholidays.co.uk/event/bingo-9/2026-05-02/
LOCATION:Cofton Holiday Park\, Starcross\, Devon\, EX6 8RP\, United Kingdom
CATEGORIES:Entertainment
ATTACH;FMTTYPE=image/jpeg:https://coftonholidays.co.uk/wp-content/uploads/2023/09/balls-6077901-scaled.jpg
END:VEVENT
BEGIN:VEVENT
DTSTART;TZID=Europe/London:20260502T183000
DTEND;TZID=Europe/London:20260502T193000
DTSTAMP:20260424T173307
CREATED:20260417T094153Z
LAST-MODIFIED:20260417T111259Z
UID:10019104-1777746600-1777750200@coftonholidays.co.uk
SUMMARY:Cofton Kids Party Time
DESCRIPTION:Get ready for the ultimate party full of fun\, games\, party dances and more! Come and join in with all the games and challenges\, and immerse yourself in our party time!!!
URL:https://coftonholidays.co.uk/event/cofton-kids-party-time/2026-05-02/
LOCATION:Cofton Holiday Park\, Starcross\, Devon\, EX6 8RP\, United Kingdom
CATEGORIES:Entertainment
ATTACH;FMTTYPE=image/jpeg:https://coftonholidays.co.uk/wp-content/uploads/2016/12/Entertainment-Toddlers-Holidays-Children-Devon-scaled.jpeg
END:VEVENT
BEGIN:VEVENT
DTSTART;TZID=Europe/London:20260502T180000
DTEND;TZID=Europe/London:20260502T183000
DTSTAMP:20260424T173307
CREATED:20260417T092659Z
LAST-MODIFIED:20260417T092826Z
UID:10018971-1777744800-1777746600@coftonholidays.co.uk
SUMMARY:Digby & Friends Story Time
DESCRIPTION:Don’t miss story time with Digby and the gang as they take you on an journey through one of they’re exciting adventures. Ever lasting laughs with Jaffa the Rabbit and Professor Cofton will sure to keep you wanting more!! But watch out for SNEAKY FOX\, he’s always up to no good.
URL:https://coftonholidays.co.uk/event/digby-friends-story-time-3/2026-05-02/
LOCATION:Cofton Holiday Park\, Starcross\, Devon\, EX6 8RP\, United Kingdom
CATEGORIES:Entertainment
ATTACH;FMTTYPE=image/jpeg:https://coftonholidays.co.uk/wp-content/uploads/2016/12/Digby-scaled.jpg
END:VEVENT
BEGIN:VEVENT
DTSTART;TZID=Europe/London:20260502T170000
DTEND;TZID=Europe/London:20260502T180000
DTSTAMP:20260424T173307
CREATED:20260417T092247Z
LAST-MODIFIED:20260421T112132Z
UID:10018908-1777741200-1777744800@coftonholidays.co.uk
SUMMARY:Little Legends
DESCRIPTION:Our evening entertainment kicks off with interactive fun and activities from face painting and circus skills to balloon modelling. Come on down\, make new friends and meet the Cofton Crew.
URL:https://coftonholidays.co.uk/event/little-legends/2026-05-02/
LOCATION:Cofton Holiday Park\, Starcross\, Devon\, EX6 8RP\, United Kingdom
CATEGORIES:Entertainment
ATTACH;FMTTYPE=image/jpeg:https://coftonholidays.co.uk/wp-content/uploads/2016/12/Entertainment-Toddlers-Holidays-Children-Devon-scaled.jpeg
END:VEVENT
BEGIN:VEVENT
DTSTART;TZID=Europe/London:20260502T140000
DTEND;TZID=Europe/London:20260502T160000
DTSTAMP:20260424T173307
CREATED:20260330T100821Z
LAST-MODIFIED:20260420T124017Z
UID:10019164-1777730400-1777737600@coftonholidays.co.uk
SUMMARY:Live Music @ The Swan Patio - Phil Smyth
DESCRIPTION:Relax on the patio of The Swan pub with live acoustic music from Phil Smyth.
URL:https://coftonholidays.co.uk/event/live-music-the-swan-patio-phil-smyth/2026-05-02/
LOCATION:Cofton Holiday Park\, Starcross\, Devon\, EX6 8RP\, United Kingdom
CATEGORIES:Entertainment
ATTACH;FMTTYPE=image/jpeg:https://coftonholidays.co.uk/wp-content/uploads/2020/01/Acoustic-Sessions-Logo.jpg
END:VEVENT
BEGIN:VEVENT
DTSTART;TZID=Europe/London:20260502T100000
DTEND;TZID=Europe/London:20260502T120000
DTSTAMP:20260424T173307
CREATED:20260420T140522Z
LAST-MODIFIED:20260421T112232Z
UID:10019195-1777716000-1777723200@coftonholidays.co.uk
SUMMARY:Treetop High Ropes Sessions
DESCRIPTION:Get ready for adventure at our tree top high ropes course. Rising 8 metres from the ground\, our tree top adventure course will get your heart racing and your blood pumping as you navigate and traverse your way across 16 sections through the Cofton woods. Test your balance on tightropes and cross rickety bridges\, take on challenging obstacles and zip line back to the ground all whilst being safely harnessed in. \nWe have sessions running throughout the day. Book your session and get ready for the ultimate treetop adventure. \nTo take part you must be a: \n• Minimum of 8 years of age\n• Maximum weight of 120kg\n• Minimum of 1.2m height (Children  aged 8-10 years of age should be accompanied by an adult to aid them with the belay system) \nBook Treetop Adventure sessions
URL:https://coftonholidays.co.uk/event/treetop-high-ropes-sessions-duplicate/2026-05-02/
LOCATION:Cofton Holiday Park\, Starcross\, Devon\, EX6 8RP\, United Kingdom
CATEGORIES:Activities
ATTACH;FMTTYPE=image/jpeg:https://coftonholidays.co.uk/wp-content/uploads/2022/08/high-ropes.jpg
END:VEVENT
BEGIN:VEVENT
DTSTART;TZID=Europe/London:20260502T100000
DTEND;TZID=Europe/London:20260502T110000
DTSTAMP:20260424T173307
CREATED:20260413T125150Z
LAST-MODIFIED:20260413T125150Z
UID:10018808-1777716000-1777719600@coftonholidays.co.uk
SUMMARY:Teddy Bear Workshop
DESCRIPTION:Unleash your imagination and experience the joy of bringing your very own teddy to life at Cofton Holidays! Our exciting Teddy Bear Workshop invites you to craft your own cuddly companion\, choosing from our adorable designs to stuff and cherish forever. \nGuided by our friendly team\, this hands-on experience is filled with creativity and laughter – the perfect way to make your holiday at Cofton even more magical. \nBook here
URL:https://coftonholidays.co.uk/event/teddy-bear-workshop-4/2026-05-02/
LOCATION:Cofton Holiday Park\, Starcross\, Devon\, EX6 8RP\, United Kingdom
CATEGORIES:Activities
ATTACH;FMTTYPE=image/jpeg:https://coftonholidays.co.uk/wp-content/uploads/2024/12/Teddy-bear-workshop-web.jpg
END:VEVENT
BEGIN:VEVENT
DTSTART;VALUE=DATE:20260502
DTEND;VALUE=DATE:20260505
DTSTAMP:20260424T173307
CREATED:20260105T151804Z
LAST-MODIFIED:20260105T151804Z
UID:10017061-1777680000-1777939199@coftonholidays.co.uk
SUMMARY:Brixham Pirate Festival
DESCRIPTION:The annual Brixham Pirate Festival\, with a crew made up of first-time brigands and buccaneers\, held in Brixham\, Devon takes place over the Early May Bank Holiday weekend\, is a swashbuckling mix of seaside shenanigans and pirate-themed fun for all the family. \nFind out more 
URL:https://coftonholidays.co.uk/event/brixham-pirate-festival/
LOCATION:Brixham\, Dartmouth Road\, Churston Ferrers\, Brixham\, Devon\, TQ5 0JT\, United Kingdom
CATEGORIES:What’s On Locally
ATTACH;FMTTYPE=image/jpeg:https://coftonholidays.co.uk/wp-content/uploads/2026/01/pirates-fest.jpg
END:VEVENT
END:VCALENDAR